Workbook

Sheet Ausfüllhinweise
A1: Hinweise zum Formular für die Ausschreibung/Meldung
A4: Das Formular ist nur am PC auszufüllen. Über Smartphone ist das Ausfüllen und versenden nicht möglich
A7: Das Formular besteht aus mehreren Tabellenblättern:
A9: Ausschreibung:
B10: Dieses Blatt ist vom jeweiligen Ausrichter auszufüllen
A11: Meldender Verein/Gesellschaft:
B12: Dieses Blatt ist vom meldenden Verein/der meldenden Gesellschaft einmalig auszufüllen und wird auf die Meldelisten übertragen
A14: Meldeliste Solisten:
B15: Hier sind die jeweiligen Solisten anzugeben. Eine Zuordnung zur jeweiligen Altersklasse erfolgt in dieser Liste automatisch. Unter BDK_Ausweis gibt es die Auswahl Ja;Nein und beantragt. Hier bitte den aktuellen Stand eintragen.
A19: Meldeliste Tanzpaare;
B21: Angabe der jeweiligen Tanzpaare. Werden Altersklassen rot markiert startet das Tanzpaar in der rot markierten Altersklasse (siehe auch TTO).
A22: Meldeliste Garden;
B24: Hier sind nur die jeweiligen Garden mit Namen anzugeben (Beispiel: Garde 1, Garde 2…..). Die jeweilige Altersklasse ist anzugeben.
A25: Auflistung Gardetänzer:
B27: Alle Tänzer (m/w/d) der startenden Garden sind hier einzeln aufzuführen. Auch hier erfolgt die Zuordnung zur Altersklasse automatisch.
A28: Meldeliste Schautanz:
A30: Auflistung Tänzer Schautanz: | B30: Siehe Erläuterung Garden
A32: Gesamtübersicht | B32: Siehe Erläuterung Garden
B34: Hier erhält der meldende Verein/die meldende Gesellschaft eine Gesamtübersicht der zu entrichtenden Startgelder und der Bankverbindung des Ausrichters. Auf diesem Blatt ist nur einzutragen bis zu welchem Datum die Startgelder überwiesen werden.
A39: Ein Ausdruck der einzelnen Blätter sowie der Postversand ist nicht mehr notwendig. Speichern Sie die Datei als Excel-Arbeitsmappe oder Open-Office-Tabelle ab und versenden diese auf elektronischem Wege. Beispielsweise per E-Mail oder per Upload beim VKAG.

Sheet Ausschreibung
A1: Qualifikationsturnier im karnevalistischen Tanzsport zur Verbandsmeisterschaft
A12: Turniertitel: | B12: 9. Sankhasen Cup
A16: Ausrichter: | B16: Myhler Karnevalrsverein
A19: Termin: | B19: Samstag, 21. November 2026 | D19: Einlass: | E19: 07.00 Uhr
D20: Beginn: | E20: 09.00 Uhr
A21: Austragungsort: | C21: Mehrzweckhalle Myhl, Gartenstraße
E23: 2022
A24: Altersklassen: | C24: Jugend, Geb.-Jahr von: | D24: =E23-6 -> 2016 | E24: bis: | F24: =D24+5 -> 2021
C25: Junioren, Geb.-Jahr von: | D25: =F24-9 -> 2012 | E25: bis: | F25: =D25+3 -> 2015
C26: Ü-15, Geb.-Jahr von: | D26: =F24-10 -> 2011
A28: Ansprechpartner:
B29: Name: | C29: Jana Timmer
B30: Anschrift | C30: Brabanter Str. 4 41849 Wassenberg
B31: Telefon | C31: 0177 - 4527326
B32: E-Mail: | C32: TT-Myhl@grenzlandkarneval.de
A36: Die Einstufung der Altersklassen richtet sich nach dem Jahr der laufenden Session in dem die deutsche Meisterschaft im Bund Deutscher Karneval stattfindet. Die Bedingung der Altersklasse bei den Tanzgruppen gilt als erfüllt, wenn die Mitglieder der Gruppe das vorgeschriebene Alter haben. Sollte ein Mitglied der Gruppe älter sein, wird in der nachfolgenden Altersklasse gestartet. In einer Gruppe dürfen nur Tänzer (m/w/d) aus zwei aufeinander folgenden Altersklassen auftreten. Bei Tanzpaaren erfolgt der Start in der Altersklasse, welche dem älteren Tanzpartner zuordnet ist. Der Altersunterschied der Tanzpartner darf nicht mehr als 36 Monate betragen. Die Alterskontrolle erfolgt auf Basis eines aktuellen BDK-Tanzturnierausweises. Ohne Ausweis des BDK ist eine Teilnahme zur Qualifikation ausgeschlossen. Der Tanzturnierausweis muss dem aktuellen Stand entsprechen. Veraltete BDK-Tanzturnierausweise (grün oder rot) werden nicht mehr akzeptiert.
A52: Disziplinen: | B52: Jugend | C52: Tanzpaare, Marschtanz (weibliche/männliche und/oder gemischte Garden), Tanzmariechen/Tanzoffiziere, und Schautänze
B53: Junioren
B54: Ü15
A55: Startfolge: | B55: Jeweils in der zuvor genannten Reihenfolge.
A57: Bühne: | C57: Breite: | D57: 10 | E57: Tiefe: | F57: 6
C58: Bühnenhöhe: | D58: 5
C59: Aufmarsch in Blickrichtung zur Bühne von: | F59: rechts
C60: Abmarsch in Blickrichtung zur Bühne von: | F60: links
C61: Bühnenbelag: | D61: PVC
A63: Musik: | B63: a) Es darf nur nach eigenen CDs oder USB-Sticks getanzt werden. b) Für jeden Tanz ist eine gesonderte CD oder ein gesonderter USB-Stick vor Beginn der jeweiligen Disziplin bei der Turnierleitung (Musikabgabe) abzugeben. c) Die CD oder der USB-Stick darf nur die Musik, welche für den Tanz bestimmt sind enthalten, weitere Mediadateien sind nicht zulässsig. Die Mediadatei muss in einem gängigen Format vorliegen, MP4 Dateien werden nicht akzeptiert. d) Jede CD oder jeder USB-Stick muss wie folgt beschriftet werden: - Name und Sitz der Gesellschaft - Disziplin Eine sachgemäße Behandlung und einwandfreie Rückgabe wird gewährleistet e) Musik für Ein- und Ausmarsch stellt der VKAG zur Verfügung. Für Schautänze ist eine eigene Aufmarschmusik zulässig. Dies muss dann auf der CD oder dem USB-Stick vermerkt sein.
B77: Folgende Wiedergabemöglichkeiten sind auf diesem Turnier zugelassen:
B78: X | C78: CD | F78: USB-Stick
A80: Zulassung: | B80: Alle Tänzer (m/w/d) aus Gesellschaften, welche karnevalistischen Tanzsport betreiben (siehe TTO). Um die Qualifikation dürfen nur Mitglieder (m/w/d) aus Gesellschaften tanzen, die dem VKAG angeschlossen sind. Starter (m/w/d) ohne BDK-Ausweis können nur für die jeweilige Stadtmeisterschaft antreten. Eine entsprechende Bescheinigung ist erforderlich und steht im Downloadbereich des VKAG zur Verfügung (www.grenzlandkarneval.de)
A89: GEMA: | B89: Alle Gesellschaften, die ihre aktiven Teilnehmer (m/w/d) über den zuständigen Regionalverband der GEMA gemeldet und ihre Gebühren entrichtet haben sind teilnahmeberechtigt. Die Vertragsnummer des gültigen Gardevertrages ist zwingend anzugeben. Vereine/Gesellschaften, welche ihre Teilnahme der GEMA nicht gemeldet haben sind von der Teilnahme ausgeschlossen.
A96: BDK/VKAG-NR.: | B96: Die BDK- und VKAG-Nr. ist, soweit vorhanden, anzugeben. Ausnahme: Teilnahme an einer Stadtmeisterschaft.
A99: Turnier- ordnung | B99: Es gelten die Richtlinien des Bund Deutscher Karneval in der jeweils aktuellen Fassung, sowie die Tanzturnierordnung des VKAG (Nebenordnung Nr. 3) in der Fassung vom 24.02.2026 Wertungskriterien können unter www.karnevaldeutschland.de abgerufen werden. Turniertänzer (BDK, RKK, IIG, IDA, FEN, DVG) werden mit einem "*" (Stern) gekennzeichnet, wenn innerhalb von zwei Jahren (zurückgerechnet ab dem Turniertag) ein Start erfolgt ist. Es erfolgt eine separate Siegerehrung für Turniertänzer und Nicht-Turniertänzer.
A111: Auslosung: | B111: Die Auslosung der Startreihenfolge findet statt am:
B112: 46331 | C112: Um: | D112: 19.30 Uhr
B113: im Haus des Grenzlandkarnevals, Balbinastr. 3, 52146 Würselen
B114: Dem Ausrichter ist es vorbehalten nur Disziplinen mit Anmeldung auszulosen,
B115: Ausgelost werden nur Meldungen von Tänzern (m/w/d), welche bis zum Tag der Auslosung auch die Startgebühren entrichtet haben.
A119: Preise: | B119: Die Plätze 1 bis 3 in jeder Disziplin und Altersklasse erhalten einen Pokal und eine Urkunde.
A122: Startgeld: | B122: Das Startgeld beträgt bei den Qualifikationsturnieren pro Auftritt je 17,00 €.
B124: Das Startgeld muss bis zum: | E124: 46300
B125: auf das Konto IBAN: | D125: DE41 3106 0517 7813 7500 10
B126: eingegangen sein.
A128: Eintritt: | B128: Tageskarte Erwachsene/Ü15: | D128: 8
B129: Tageskarte Kinder/Jugendliche | D129: 4
B130: Freier Eintritt für Kinder bis | D130: 3
B131: Aktive Tänzer (m/w/d) sowie deren Trainer/Betreuer haben freien Eintritt (pro Auftritt eine Person)
A135: Anmeldung: | B135: Eine Anmeldung ist nur mit den dafür vorgsehenen Formularen möglich. Bestandteil sind hierfür auch die vollständig ausgefüllten Teilnehmerlisten.
A138: Anmeldeschluss: | C138: 46328
C139: (Eingang der Anmeldung auf elektronischem Wege)
A141: Bewertung: | B141: Die Bewertung erfolgt durch die vom VKAG eingesetzte Jury. Die Jury besteht aus 10 Mitgliedern (m/w/d) einschließlich 1 Obmann (m/w/d), jeweils 7 nehmen im Wechsel die Wertung jeder Disziplin vor. Bei Wertungsgleichheit (Sternchen)bewertet der Obmann (m/w/d) mit. Die Wertung der Jury ist nicht anfechtbar. Der Rechtsweg ist ausgeschlossen.
A146: Verpflichtungen: | B146: Anmeldungen die nach dem Auslosungstag zurückgezogen werden befreien nicht von der Entrichtung des Startgeldes. Eine Rückerstattung ist nach dem Auslosungstag nicht möglich. Werden Anmeldungen bis zu 14 Tage vor dem Auslosungstag zurückgezogen, besteht ein Rückerstattungsanspruch von 50% bereits gezahlter Startgelder.
A152: Doping: | B152: Alle Turniere im VKAG unterliegen den Vereinbarungen zwischen dem Bund Deutscher Karneval, dem Bundesverband karnevalistischer Tanzsport, dem deutschen Tanzsportverband und dem Deutschen Sportbund.
B156: Medikamente welche der Leistungsteigerung dienen und in der Verbotsliste der Nationalen Anti Doping Agentur Deutschland (NADA) aufgeführt sind, sind absolut verboten und führen zum Ausschluss vom Turnier und einer Sperre für die laufende Session. Eine gesundheitlich notwendige Medikation (z. B. Asthma-Spray) muss durch eine ärztliche Bestätigung mit Angabe der genauen Dosierung nachgewiesen werden. Ansonsten kann eine Teilnahme am Turnier untersagt werden.
A167: Schlussbestimmungen:
A169: Mit Absendung der Meldeformulare werden die vorstehenden Regelungen rechtsverbindlich anerkannt. Jeder Verein/jede Gesellschaft und Tänzer (m/w/d) stimmt mit Abgabe der Anmeldung einer Veröffentlichung der Darbietungen in entsprechenden Medien des Verbandes zu. In diesem Zusammenhang gelten die Bestimmungen der DSGVO und dem BDSG in der jeweils gültigen Fassung. Für die Speicherung der persönlichen Daten gelten die Bestimmungen des Artikel 6 DSGVO und die daraus resultierenden Rechte für die Tänzer (m/w/d). Jeder Verein/jede Gesellschaft hat ihre Teilnehmer am Turnier darüber zu informieren und haftet dem Ausrichter und dem VKAG gegenüber, dass es keinerlei Widerspruch zu dieser Vorgehensweise gibt. Es gilt für alle Besucher ein grundsätzliches Film- und Videoverbot, hierzu zählen auch Videotelefonie oder vergleichbares. Zuwiderhandlung führt zum sofortigen Hausverbot. Foto- und Videoaufnahmen sind nur Personen gestattet, welche dazu vom VKAG entsprechend benannt wurden und ausgewiesen sind. Besucher dürfen jeweils vor oder nach dem Tanz, sowie bei der jeweiligen Siegerehrung Fotoaufnahmen machen. Allerdings darf hierzu der abgegrenzte Jurybereich nicht betreten werden.
A190: Der Verzehr eigener Speisen und Getränke ist untersagt. Auch in diesem Falle kann eine Zuwiderhandlung zum Verweis von der Veranstaltung führen.

Sheet meldender Verein
A1: Angaben zum Verein/zur Gesellschaft
A3: Name:
A4: Anschrift:
A5: PLZ,Ort
A7: Telefon:
A8: Fax:
A9: E-Mail:
A11: Gema-Nr.:
A12: BDK-Nr.:
A13: VKAG-Nr.:
A14: Ansprechpartner:
A15: Name:
... A23: Kontakt:

Sheet Meldeliste Solisten
A1: Angaben zum Verein/zur Gesellschaft
A3: Name: | C3: ='meldender Verein'!$B$3 -> 0
A4: Anschrift: | C4: ='meldender Verein'!$B$4 -> 0
A5: PLZ,Ort | C5: ='meldender Verein'!$B$5 -> 0
A7: Telefon: | C7: ='meldender Verein'!$B$7 -> 0
A8: Fax: | C8: ='meldender Verein'!$B$8 -> 0
A9: E-Mail: | C9: ='meldender Verein'!$B$9 -> 0
A11: Gema-Nr.: | C11: ='meldender Verein'!$B$11 -> 0
A12: BDK-Nr.: | C12: ='meldender Verein'!$B$12 -> 0
A13: VKAG-Nr.: | C13: ='meldender Verein'!$B$13 -> 0
A16: Zum Qualifikationsturnier am: | E16: =Ausschreibung!$B$19 -> Samstag, 21. November 2026
A17: Melden wir verbindlich nachfolgende Tänzer (m/w/d) an:
A18: Startgeld gesamt: | C18: =SUM(G20:G50) -> 0
A19: BDK-Ausweis | B19: Sternchen | C19: Name | D19: Vorname | E19: Disziplin | F19: Jahrgang | G19: Startgeld | H19: Altersklasse | I19: Letzter Start bei *
G20: =IF(C20="","",17) | H20: =IF(F20="","",IF(F20>=Ausschreibung!$E$23,"Entfällt",IF(AND(F20>=Ausschreibung!$D$24,F20<=Ausschreibung!$F$24),"Jugend",IF(AND(F20>=Ausschreibung!$D$25,F20<=Ausschreibung!$F$25),"Junioren","Ü-15"))))
G21: =IF(C21="","",17) | H21: =IF(F21="","",IF(F21>=Ausschreibung!$E$23,"Entfällt",IF(AND(F21>=Ausschreibung!$D$24,F21<=Ausschreibung!$F$24),"Jugend",IF(AND(F21>=Ausschreibung!$D$25,F21<=Ausschreibung!$F$25),"Junioren","Ü-15"))))
G22: =IF(C22="","",17) | H22: =IF(F22="","",IF(F22>=Ausschreibung!$E$23,"Entfällt",IF(AND(F22>=Ausschreibung!$D$24,F22<=Ausschreibung!$F$24),"Jugend",IF(AND(F22>=Ausschreibung!$D$25,F22<=Ausschreibung!$F$25),"Junioren","Ü-15"))))
G23: =IF(C23="","",17) | H23: =IF(F23="","",IF(F23>=Ausschreibung!$E$23,"Entfällt",IF(AND(F23>=Ausschreibung!$D$24,F23<=Ausschreibung!$F$24),"Jugend",IF(AND(F23>=Ausschreibung!$D$25,F23<=Ausschreibung!$F$25),"Junioren","Ü-15"))))
G24: =IF(C24="","",17) | H24: =IF(F24="","",IF(F24>=Ausschreibung!$E$23,"Entfällt",IF(AND(F24>=Ausschreibung!$D$24,F24<=Ausschreibung!$F$24),"Jugend",IF(AND(F24>=Ausschreibung!$D$25,F24<=Ausschreibung!$F$25),"Junioren","Ü-15"))))
G25: =IF(C25="","",17) | H25: =IF(F25="","",IF(F25>=Ausschreibung!$E$23,"Entfällt",IF(AND(F25>=Ausschreibung!$D$24,F25<=Ausschreibung!$F$24),"Jugend",IF(AND(F25>=Ausschreibung!$D$25,F25<=Ausschreibung!$F$25),"Junioren","Ü-15"))))
G26: =IF(C26="","",17) | H26: =IF(F26="","",IF(F26>=Ausschreibung!$E$23,"Entfällt",IF(AND(F26>=Ausschreibung!$D$24,F26<=Ausschreibung!$F$24),"Jugend",IF(AND(F26>=Ausschreibung!$D$25,F26<=Ausschreibung!$F$25),"Junioren","Ü-15"))))
G27: =IF(C27="","",17) | H27: =IF(F27="","",IF(F27>=Ausschreibung!$E$23,"Entfällt",IF(AND(F27>=Ausschreibung!$D$24,F27<=Ausschreibung!$F$24),"Jugend",IF(AND(F27>=Ausschreibung!$D$25,F27<=Ausschreibung!$F$25),"Junioren","Ü-15"))))
G28: =IF(C28="","",17) | H28: =IF(F28="","",IF(F28>=Ausschreibung!$E$23,"Entfällt",IF(AND(F28>=Ausschreibung!$D$24,F28<=Ausschreibung!$F$24),"Jugend",IF(AND(F28>=Ausschreibung!$D$25,F28<=Ausschreibung!$F$25),"Junioren","Ü-15"))))
G29: =IF(C29="","",17) | H29: =IF(F29="","",IF(F29>=Ausschreibung!$E$23,"Entfällt",IF(AND(F29>=Ausschreibung!$D$24,F29<=Ausschreibung!$F$24),"Jugend",IF(AND(F29>=Ausschreibung!$D$25,F29<=Ausschreibung!$F$25),"Junioren","Ü-15"))))
G30: =IF(C30="","",17) | H30: =IF(F30="","",IF(F30>=Ausschreibung!$E$23,"Entfällt",IF(AND(F30>=Ausschreibung!$D$24,F30<=Ausschreibung!$F$24),"Jugend",IF(AND(F30>=Ausschreibung!$D$25,F30<=Ausschreibung!$F$25),"Junioren","Ü-15"))))
G31: =IF(C31="","",17) | H31: =IF(F31="","",IF(F31>=Ausschreibung!$E$23,"Entfällt",IF(AND(F31>=Ausschreibung!$D$24,F31<=Ausschreibung!$F$24),"Jugend",IF(AND(F31>=Ausschreibung!$D$25,F31<=Ausschreibung!$F$25),"Junioren","Ü-15"))))
... G37: =IF(C37="","",17) | H37: =IF(F37="","",IF(F37>=Ausschreibung!$E$23,"Entfällt",IF(AND(F37>=Ausschreibung!$D$24,F37<=Ausschreibung!$F$24),"Jugend",IF(AND(F37>=Ausschreibung!$D$25,F37<=Ausschreibung!$F$25),"Junioren","Ü-15"))))
H38: =IF(F38="","",IF(F38>=Ausschreibung!$E$23,"Entfällt",IF(AND(F38>=Ausschreibung!$D$24,F38<=Ausschreibung!$F$24),"Jugend",IF(AND(F38>=Ausschreibung!$D$25,F38<=Ausschreibung!$F$25),"Junioren","Ü-15"))))
G39: =IF(C39="","",17) | H39: =IF(F39="","",IF(F39>=Ausschreibung!$E$23,"Entfällt",IF(AND(F39>=Ausschreibung!$D$24,F39<=Ausschreibung!$F$24),"Jugend",IF(AND(F39>=Ausschreibung!$D$25,F39<=Ausschreibung!$F$25),"Junioren","Ü-15"))))
G40: =IF(C40="","",17) | H40: =IF(F40="","",IF(F40>=Ausschreibung!$E$23,"Entfällt",IF(AND(F40>=Ausschreibung!$D$24,F40<=Ausschreibung!$F$24),"Jugend",IF(AND(F40>=Ausschreibung!$D$25,F40<=Ausschreibung!$F$25),"Junioren","Ü-15"))))
G41: =IF(C41="","",17) | H41: =IF(F41="","",IF(F41>=Ausschreibung!$E$23,"Entfällt",IF(AND(F41>=Ausschreibung!$D$24,F41<=Ausschreibung!$F$24),"Jugend",IF(AND(F41>=Ausschreibung!$D$25,F41<=Ausschreibung!$F$25),"Junioren","Ü-15"))))
G42: =IF(C42="","",17) | H42: =IF(F42="","",IF(F42>=Ausschreibung!$E$23,"Entfällt",IF(AND(F42>=Ausschreibung!$D$24,F42<=Ausschreibung!$F$24),"Jugend",IF(AND(F42>=Ausschreibung!$D$25,F42<=Ausschreibung!$F$25),"Junioren","Ü-15"))))
G43: =IF(C43="","",17) | H43: =IF(F43="","",IF(F43>=Ausschreibung!$E$23,"Entfällt",IF(AND(F43>=Ausschreibung!$D$24,F43<=Ausschreibung!$F$24),"Jugend",IF(AND(F43>=Ausschreibung!$D$25,F43<=Ausschreibung!$F$25),"Junioren","Ü-15"))))
G44: =IF(C44="","",17) | H44: =IF(F44="","",IF(F44>=Ausschreibung!$E$23,"Entfällt",IF(AND(F44>=Ausschreibung!$D$24,F44<=Ausschreibung!$F$24),"Jugend",IF(AND(F44>=Ausschreibung!$D$25,F44<=Ausschreibung!$F$25),"Junioren","Ü-15"))))
G45: =IF(C45="","",17) | H45: =IF(F45="","",IF(F45>=Ausschreibung!$E$23,"Entfällt",IF(AND(F45>=Ausschreibung!$D$24,F45<=Ausschreibung!$F$24),"Jugend",IF(AND(F45>=Ausschreibung!$D$25,F45<=Ausschreibung!$F$25),"Junioren","Ü-15"))))
G46: =IF(C46="","",17) | H46: =IF(F46="","",IF(F46>=Ausschreibung!$E$23,"Entfällt",IF(AND(F46>=Ausschreibung!$D$24,F46<=Ausschreibung!$F$24),"Jugend",IF(AND(F46>=Ausschreibung!$D$25,F46<=Ausschreibung!$F$25),"Junioren","Ü-15"))))
G47: =IF(C47="","",17) | H47: =IF(F47="","",IF(F47>=Ausschreibung!$E$23,"Entfällt",IF(AND(F47>=Ausschreibung!$D$24,F47<=Ausschreibung!$F$24),"Jugend",IF(AND(F47>=Ausschreibung!$D$25,F47<=Ausschreibung!$F$25),"Junioren","Ü-15"))))
G48: =IF(C48="","",17) | H48: =IF(F48="","",IF(F48>=Ausschreibung!$E$23,"Entfällt",IF(AND(F48>=Ausschreibung!$D$24,F48<=Ausschreibung!$F$24),"Jugend",IF(AND(F48>=Ausschreibung!$D$25,F48<=Ausschreibung!$F$25),"Junioren","Ü-15"))))
G49: =IF(C49="","",17) | H49: =IF(F49="","",IF(F49>=Ausschreibung!$E$23,"Entfällt",IF(AND(F49>=Ausschreibung!$D$24,F49<=Ausschreibung!$F$24),"Jugend",IF(AND(F49>=Ausschreibung!$D$25,F49<=Ausschreibung!$F$25),"Junioren","Ü-15"))))
G50: =IF(C50="","",17) | H50: =IF(F50="","",IF(F50>=Ausschreibung!$E$23,"Entfällt",IF(AND(F50>=Ausschreibung!$D$24,F50<=Ausschreibung!$F$24),"Jugend",IF(AND(F50>=Ausschreibung!$D$25,F50<=Ausschreibung!$F$25),"Junioren","Ü-15"))))
H51: =IF(F51="","",IF(F51>=Ausschreibung!$E$23,"Bambini",IF(AND(F51>=Ausschreibung!$D$24,F51<=Ausschreibung!$F$24),"Jugend",IF(AND(F51>=Ausschreibung!$D$25,F51<=Ausschreibung!$F$25),"Junioren","Ü15"))))
H52: =IF(F52="","",IF(F52>=Ausschreibung!$E$23,"Bambini",IF(AND(F52>=Ausschreibung!$D$24,F52<=Ausschreibung!$F$24),"Jugend",IF(AND(F52>=Ausschreibung!$D$25,F52<=Ausschreibung!$F$25),"Junioren","Ü15"))))

Sheet Meldeliste Tanzpaare
A1: Angaben zum Verein/zur Gesellschaft
A3: Name: | C3: ='meldender Verein'!$B$3 -> 0
A4: Anschrift: | C4: ='meldender Verein'!$B$4 -> 0
A5: PLZ,Ort | C5: ='meldender Verein'!$B$5 -> 0
A7: Telefon: | C7: ='meldender Verein'!$B$7 -> 0
A8: Fax: | C8: ='meldender Verein'!$B$8 -> 0
A9: E-Mail: | C9: ='meldender Verein'!$B$9 -> 0
A11: Gema-Nr.: | C11: ='meldender Verein'!$B$11 -> 0
A12: BDK-Nr.: | C12: ='meldender Verein'!$B$12 -> 0
A13: VKAG-Nr.: | C13: ='meldender Verein'!$B$13 -> 0
A16: Zum Qualifikationsturnier am: | D16: =Ausschreibung!B19 -> Samstag, 21. November 2026
A17: Melden wir verbindlich nachfolgendes Tanzpaar/nachfolgende Tanzpaare (m/w/d) an:
A18: Startgeld: | C18: =COUNTA(C20:C49)/2*17 -> 0
A19: BDK-Ausweis | B19: Sternchen | C19: Name | D19: Vorname | E19: Jahrgang | F19: Altersklasse | I19: Letzter Start bei *
F20: =IF(E20="","",IF(E20>=Ausschreibung!$E$23,"Bambini",IF(AND(E20>=Ausschreibung!$D$24,E20<=Ausschreibung!$F$24),"Jugend",IF(AND(E20>=Ausschreibung!$D$25,E20<=Ausschreibung!$F$25),"Junioren","Ü-15")))) | G20: =IF(E20="","",IF(F20=F21,1,IF(E20<E21,2,0))) | H20: =IF(Tabelle1[[#This Row],[Spalte5]]>E21,Tabelle1[[#This Row],[Spalte5]]-E21,E21-Tabelle1[[#This Row],[Spalte5]]) -> 0
F21: =IF(E21="","",IF(E21>=Ausschreibung!$E$23,"Bambini",IF(AND(E21>=Ausschreibung!$D$24,E21<=Ausschreibung!$F$24),"Jugend",IF(AND(E21>=Ausschreibung!$D$25,E21<=Ausschreibung!$F$25),"Junioren","Ü-15")))) | G21: =IF(E21="","",IF(F20=F21,1,IF(E21<E20,2,0)))
F22: =IF(E22="","",IF(E22>=Ausschreibung!$E$23,"Bambini",IF(AND(E22>=Ausschreibung!$D$24,E22<=Ausschreibung!$F$24),"Jugend",IF(AND(E22>=Ausschreibung!$D$25,E22<=Ausschreibung!$F$25),"Junioren","Ü-15")))) | G22: =IF(E22="","",IF(F22=F23,1,IF(E22<E23,2,0))) | H22: =IF(Tabelle1[[#This Row],[Spalte5]]>E23,Tabelle1[[#This Row],[Spalte5]]-E23,E23-Tabelle1[[#This Row],[Spalte5]]) -> 0
F23: =IF(E23="","",IF(E23>=Ausschreibung!$E$23,"Bambini",IF(AND(E23>=Ausschreibung!$D$24,E23<=Ausschreibung!$F$24),"Jugend",IF(AND(E23>=Ausschreibung!$D$25,E23<=Ausschreibung!$F$25),"Junioren","Ü-15")))) | G23: =IF(E23="","",IF(F23=F22,1,IF(E23<E22,2,0)))
F24: =IF(E24="","",IF(E24>=Ausschreibung!$E$23,"Bambini",IF(AND(E24>=Ausschreibung!$D$24,E24<=Ausschreibung!$F$24),"Jugend",IF(AND(E24>=Ausschreibung!$D$25,E24<=Ausschreibung!$F$25),"Junioren","Ü-15")))) | G24: =IF(E24="","",IF(F24=F25,1,IF(E24<E25,2,0))) | H24: =IF(Tabelle1[[#This Row],[Spalte5]]>E25,Tabelle1[[#This Row],[Spalte5]]-E25,E25-Tabelle1[[#This Row],[Spalte5]]) -> 0
F25: =IF(E25="","",IF(E25>=Ausschreibung!$E$23,"Bambini",IF(AND(E25>=Ausschreibung!$D$24,E25<=Ausschreibung!$F$24),"Jugend",IF(AND(E25>=Ausschreibung!$D$25,E25<=Ausschreibung!$F$25),"Junioren","Ü-15")))) | G25: =IF(E25="","",IF(F25=F24,1,IF(E25<E24,2,0)))
F26: =IF(E26="","",IF(E26>=Ausschreibung!$E$23,"Bambini",IF(AND(E26>=Ausschreibung!$D$24,E26<=Ausschreibung!$F$24),"Jugend",IF(AND(E26>=Ausschreibung!$D$25,E26<=Ausschreibung!$F$25),"Junioren","Ü-15")))) | G26: =IF(E26="","",IF(F26=F27,1,IF(E26<E27,2,0))) | H26: =IF(Tabelle1[[#This Row],[Spalte5]]>E27,Tabelle1[[#This Row],[Spalte5]]-E27,E27-Tabelle1[[#This Row],[Spalte5]]) -> 0
F27: =IF(E27="","",IF(E27>=Ausschreibung!$E$23,"Bambini",IF(AND(E27>=Ausschreibung!$D$24,E27<=Ausschreibung!$F$24),"Jugend",IF(AND(E27>=Ausschreibung!$D$25,E27<=Ausschreibung!$F$25),"Junioren","Ü-15")))) | G27: =IF(E27="","",IF(F27=F26,1,IF(E27<E26,2,0)))
F28: =IF(E28="","",IF(E28>=Ausschreibung!$E$23,"Bambini",IF(AND(E28>=Ausschreibung!$D$24,E28<=Ausschreibung!$F$24),"Jugend",IF(AND(E28>=Ausschreibung!$D$25,E28<=Ausschreibung!$F$25),"Junioren","Ü-15")))) | G28: =IF(E28="","",IF(F28=F29,1,IF(E28<E29,2,0))) | H28: =IF(Tabelle1[[#This Row],[Spalte5]]>E29,Tabelle1[[#This Row],[Spalte5]]-E29,E29-E28) -> 0
F29: =IF(E29="","",IF(E29>=Ausschreibung!$E$23,"Bambini",IF(AND(E29>=Ausschreibung!$D$24,E29<=Ausschreibung!$F$24),"Jugend",IF(AND(E29>=Ausschreibung!$D$25,E29<=Ausschreibung!$F$25),"Junioren","Ü-15")))) | G29: =IF(E29="","",IF(F29=F28,1,IF(E29<E28,2,0)))
F30: =IF(E30="","",IF(E30>=Ausschreibung!$E$23,"Bambini",IF(AND(E30>=Ausschreibung!$D$24,E30<=Ausschreibung!$F$24),"Jugend",IF(AND(E30>=Ausschreibung!$D$25,E30<=Ausschreibung!$F$25),"Junioren","Ü-15")))) | G30: =IF(E30="","",IF(OR(F30=F31,F31=F30),1,IF(E30<E31,2,0))) | H30: =IF(Tabelle1[[#This Row],[Spalte5]]>E31,Tabelle1[[#This Row],[Spalte5]]-E31,E31-E30) -> 0
F31: =IF(E31="","",IF(E31>=Ausschreibung!$E$23,"Bambini",IF(AND(E31>=Ausschreibung!$D$24,E31<=Ausschreibung!$F$24),"Jugend",IF(AND(E31>=Ausschreibung!$D$25,E31<=Ausschreibung!$F$25),"Junioren","Ü-15")))) | G31: =IF(E31="","",IF(OR(F31=F30,F30=F31),1,IF(E31<E30,2,0)))
F32: =IF(E32="","",IF(E32>=Ausschreibung!$E$23,"Bambini",IF(AND(E32>=Ausschreibung!$D$24,E32<=Ausschreibung!$F$24),"Jugend",IF(AND(E32>=Ausschreibung!$D$25,E32<=Ausschreibung!$F$25),"Junioren","Ü-15")))) | G32: =IF(E32="","",IF(OR(F32=F33,F33=F32),1,IF(E32<E33,2,0))) | H32: =IF(Tabelle1[[#This Row],[Spalte5]]>E33,Tabelle1[[#This Row],[Spalte5]]-E33,E33-E32) -> 0
F33: =IF(E33="","",IF(E33>=Ausschreibung!$E$23,"Bambini",IF(AND(E33>=Ausschreibung!$D$24,E33<=Ausschreibung!$F$24),"Jugend",IF(AND(E33>=Ausschreibung!$D$25,E33<=Ausschreibung!$F$25),"Junioren","Ü-15")))) | G33: =IF(E33="","",IF(OR(F33=F32,F32=F33),1,IF(E33<E32,2,0)))
F34: =IF(E34="","",IF(E34>=Ausschreibung!$E$23,"Bambini",IF(AND(E34>=Ausschreibung!$D$24,E34<=Ausschreibung!$F$24),"Jugend",IF(AND(E34>=Ausschreibung!$D$25,E34<=Ausschreibung!$F$25),"Junioren","Ü-15")))) | G34: =IF(E34="","",IF(OR(F34=F35,F35=F34),1,IF(E34<E35,2,0))) | H34: =IF(Tabelle1[[#This Row],[Spalte5]]>E35,Tabelle1[[#This Row],[Spalte5]]-E35,E35-E34) -> 0
F35: =IF(E35="","",IF(E35>=Ausschreibung!$E$23,"Bambini",IF(AND(E35>=Ausschreibung!$D$24,E35<=Ausschreibung!$F$24),"Jugend",IF(AND(E35>=Ausschreibung!$D$25,E35<=Ausschreibung!$F$25),"Junioren","Ü-15")))) | G35: =IF(E35="","",IF(OR(F35=F34,F34=F35),1,IF(E35<E34,2,0)))
F36: =IF(E36="","",IF(E36>=Ausschreibung!$E$23,"Bambini",IF(AND(E36>=Ausschreibung!$D$24,E36<=Ausschreibung!$F$24),"Jugend",IF(AND(E36>=Ausschreibung!$D$25,E36<=Ausschreibung!$F$25),"Junioren","Ü-15")))) | G36: =IF(E36="","",IF(OR(F36=F37,F37=F36),1,IF(E36<E37,2,0))) | H36: =IF(Tabelle1[[#This Row],[Spalte5]]>E37,E36-E37,E37-E36) -> 0
F37: =IF(E37="","",IF(E37>=Ausschreibung!$E$23,"Bambini",IF(AND(E37>=Ausschreibung!$D$24,E37<=Ausschreibung!$F$24),"Jugend",IF(AND(E37>=Ausschreibung!$D$25,E37<=Ausschreibung!$F$25),"Junioren","Ü-15")))) | G37: =IF(E37="","",IF(OR(F37=F36,F36=F37),1,IF(E37<E36,2,0)))
F38: =IF(E38="","",IF(E38>=Ausschreibung!$E$23,"Bambini",IF(AND(E38>=Ausschreibung!$D$24,E38<=Ausschreibung!$F$24),"Jugend",IF(AND(E38>=Ausschreibung!$D$25,E38<=Ausschreibung!$F$25),"Junioren","Ü-15")))) | G38: =IF(E38="","",IF(OR(F38=F39,F39=F38),1,IF(E38<E39,2,0))) | H38: =IF(E38>E39,E38-E39,E39-E38) -> 0
F39: =IF(E39="","",IF(E39>=Ausschreibung!$E$23,"Bambini",IF(AND(E39>=Ausschreibung!$D$24,E39<=Ausschreibung!$F$24),"Jugend",IF(AND(E39>=Ausschreibung!$D$25,E39<=Ausschreibung!$F$25),"Junioren","Ü-15")))) | G39: =IF(E39="","",IF(OR(F39=F38,F38=F39),1,IF(E39<E38,2,0)))
F40: =IF(E40="","",IF(E40>=Ausschreibung!$E$23,"Bambini",IF(AND(E40>=Ausschreibung!$D$24,E40<=Ausschreibung!$F$24),"Jugend",IF(AND(E40>=Ausschreibung!$D$25,E40<=Ausschreibung!$F$25),"Junioren","Ü-15")))) | G40: =IF(E40="","",IF(OR(F40=F41,F41=F40),1,IF(E40<E41,2,0))) | H40: =IF(E40>E41,E40-E41,E41-E40) -> 0
F41: =IF(E41="","",IF(E41>=Ausschreibung!$E$23,"Bambini",IF(AND(E41>=Ausschreibung!$D$24,E41<=Ausschreibung!$F$24),"Jugend",IF(AND(E41>=Ausschreibung!$D$25,E41<=Ausschreibung!$F$25),"Junioren","Ü-15")))) | G41: =IF(E41="","",IF(OR(F41=F40,F40=F41),1,IF(E41<E40,2,0)))
F42: =IF(E42="","",IF(E42>=Ausschreibung!$E$23,"Bambini",IF(AND(E42>=Ausschreibung!$D$24,E42<=Ausschreibung!$F$24),"Jugend",IF(AND(E42>=Ausschreibung!$D$25,E42<=Ausschreibung!$F$25),"Junioren","Ü-15")))) | G42: =IF(E42="","",IF(OR(F42=F43,F43=F42),1,IF(E42<E43,2,0))) | H42: =IF(E42>E43,E42-E43,E43-E42) -> 0
F43: =IF(E43="","",IF(E43>=Ausschreibung!$E$23,"Bambini",IF(AND(E43>=Ausschreibung!$D$24,E43<=Ausschreibung!$F$24),"Jugend",IF(AND(E43>=Ausschreibung!$D$25,E43<=Ausschreibung!$F$25),"Junioren","Ü-15")))) | G43: =IF(E43="","",IF(OR(F43=F42,F42=F43),1,IF(E43<E42,2,0)))
F44: =IF(E44="","",IF(E44>=Ausschreibung!$E$23,"Bambini",IF(AND(E44>=Ausschreibung!$D$24,E44<=Ausschreibung!$F$24),"Jugend",IF(AND(E44>=Ausschreibung!$D$25,E44<=Ausschreibung!$F$25),"Junioren","Ü-15")))) | G44: =IF(E44="","",IF(OR(F44=F45,F45=F44),1,IF(E44<E45,2,0))) | H44: =IF(E44>E45,E44-E45,E45-E44) -> 0
F45: =IF(E45="","",IF(E45>=Ausschreibung!$E$23,"Bambini",IF(AND(E45>=Ausschreibung!$D$24,E45<=Ausschreibung!$F$24),"Jugend",IF(AND(E45>=Ausschreibung!$D$25,E45<=Ausschreibung!$F$25),"Junioren","Ü-15")))) | G45: =IF(E45="","",IF(OR(F45=F44,F44=F45),1,IF(E45<E44,2,0)))
F46: =IF(E46="","",IF(E46>=Ausschreibung!$E$23,"Bambini",IF(AND(E46>=Ausschreibung!$D$24,E46<=Ausschreibung!$F$24),"Jugend",IF(AND(E46>=Ausschreibung!$D$25,E46<=Ausschreibung!$F$25),"Junioren","Ü-15")))) | G46: =IF(E46="","",IF(OR(F46=F47,F47=F46),1,IF(E46<E47,2,0))) | H46: =IF(E46>E47,E46-E47,E47-E46) -> 0
F47: =IF(E47="","",IF(E47>=Ausschreibung!$E$23,"Bambini",IF(AND(E47>=Ausschreibung!$D$24,E47<=Ausschreibung!$F$24),"Jugend",IF(AND(E47>=Ausschreibung!$D$25,E47<=Ausschreibung!$F$25),"Junioren","Ü-15")))) | G47: =IF(E47="","",IF(OR(F47=F46,F46=F47),1,IF(E47<E46,2,0)))
F48: =IF(E48="","",IF(E48>=Ausschreibung!$E$23,"Bambini",IF(AND(E48>=Ausschreibung!$D$24,E48<=Ausschreibung!$F$24),"Jugend",IF(AND(E48>=Ausschreibung!$D$25,E48<=Ausschreibung!$F$25),"Junioren","Ü-15")))) | G48: =IF(E48="","",IF(OR(F48=F49,F49=F48),1,IF(E48<E49,2,0))) | H48: =IF(E48>E49,E48-E49,E49-E48) -> 0
F49: =IF(E49="","",IF(E49>=Ausschreibung!$E$23,"Bambini",IF(AND(E49>=Ausschreibung!$D$24,E49<=Ausschreibung!$F$24),"Jugend",IF(AND(E49>=Ausschreibung!$D$25,E49<=Ausschreibung!$F$25),"Junioren","Ü-15")))) | G49: =IF(E49="","",IF(OR(F49=F48,F48=F49),1,IF(E49<E48,2,0)))

Sheet Meldeliste Garden
A1: Angaben zum Verein/zur Gesellschaft
A3: Name: | C3: ='meldender Verein'!$B$3 -> 0
A4: Anschrift: | C4: ='meldender Verein'!$B$4 -> 0
A5: PLZ,Ort | C5: ='meldender Verein'!$B$5 -> 0
A7: Telefon: | C7: ='meldender Verein'!$B$7 -> 0
A8: Fax: | C8: ='meldender Verein'!$B$8 -> 0
A9: E-Mail: | C9: ='meldender Verein'!$B$9 -> 0
A11: Gema-Nr.: | C11: ='meldender Verein'!$B$11 -> 0
A12: BDK-Nr.: | C12: ='meldender Verein'!$B$12 -> 0
A13: VKAG-Nr.: | C13: ='meldender Verein'!$B$13 -> 0
A16: Zum Qualifikationsturnier am: | E16: =Ausschreibung!$B$19 -> Samstag, 21. November 2026
A17: Melden wir verbindlich nachfolgende Garde (m/w/d) an:
A18: Startgeld: | C18: =COUNTA(B21:B51)*17 -> 0
A20: Sternchen | B20: Name der Garde | G20: Altersklasse | I20: Letzter Start bei *
H21: =IF(B21="","",B21)
H22: =IF(B22="","",B22)
H23: =IF(B23="","",B23)
H24: =IF(B24="","",B24)
H25: =IF(B25="","",B25)
H26: =IF(B26="","",B26)
H27: =IF(B27="","",B27)
H28: =IF(B28="","",B28)
H29: =IF(B29="","",B29)
H30: =IF(B30="","",B30)
H31: =IF(B31="","",B31)
H32: =IF(B32="","",B32)
... H52: =IF(B52="","",B52)

Sheet Auflistung Tänzer Garden
A1: Angaben zum Verein/zur Gesellschaft
A3: Name: | B3: ='meldender Verein'!$B$3 -> 0
A4: Anschrift: | B4: ='meldender Verein'!$B$4 -> 0
A5: PLZ,Ort | B5: ='meldender Verein'!$B$5 -> 0
A7: Telefon: | B7: ='meldender Verein'!$B$7 -> 0
A8: Fax: | B8: ='meldender Verein'!$B$8 -> 0
A9: E-Mail: | B9: ='meldender Verein'!$B$9 -> 0
A11: Gema-Nr.: | B11: ='meldender Verein'!$B$11 -> 0
A12: BDK-Nr.: | B12: ='meldender Verein'!$B$12 -> 0
A13: VKAG-Nr.: | B13: ='meldender Verein'!$B$13 -> 0
A16: Zum Qualifikationsturnier am: | D16: =Ausschreibung!B19 -> Samstag, 21. November 2026
A17: Melden wir verbindlich nachfolgende Tänzer (m/w/d) an:
A19: BDK-Ausweis | B19: Name | C19: Vorname | D19: Jahrgang | E19: Altersklasse | F19: Name der Garde | L19: Altersklasse
E20: =IF(D20="","",IF(D20>=Ausschreibung!$E$23,"Bambini",IF(AND(D20>=Ausschreibung!$D$24,D20<=Ausschreibung!$F$24),"Jugend",IF(AND(D20>=Ausschreibung!$D$25,D20<=Ausschreibung!$F$25),"Junioren","Ü-15")))) | K20: =F20 -> 0 | L20: =VLOOKUP(F20,$O$20:$T$50,6,FALSE) -> #N/A | O20: =F20 -> 0 | T20: =VLOOKUP(O20,'Meldeliste Garden'!$A$21:$G$51,6,FALSE) -> #N/A
E21: =IF(D21="","",IF(D21>=Ausschreibung!$E$23,"Bambini",IF(AND(D21>=Ausschreibung!$D$24,D21<=Ausschreibung!$F$24),"Jugend",IF(AND(D21>=Ausschreibung!$D$25,D21<=Ausschreibung!$F$25),"Junioren","Ü-15")))) | K21: =F21 -> 0 | L21: =VLOOKUP(F21,$O$20:$T$50,6,FALSE) -> #N/A | O21: =F21 -> 0 | T21: =VLOOKUP(O21,'Meldeliste Garden'!$A$21:$G$51,6,FALSE) -> #N/A
E22: =IF(D22="","",IF(D22>=Ausschreibung!$E$23,"Bambini",IF(AND(D22>=Ausschreibung!$D$24,D22<=Ausschreibung!$F$24),"Jugend",IF(AND(D22>=Ausschreibung!$D$25,D22<=Ausschreibung!$F$25),"Junioren","Ü-15")))) | K22: =F22 -> 0 | L22: =VLOOKUP(F22,$O$20:$T$50,6,FALSE) -> #N/A | O22: =F22 -> 0 | T22: =VLOOKUP(O22,'Meldeliste Garden'!$A$21:$G$51,6,FALSE) -> #N/A
E23: =IF(D23="","",IF(D23>=Ausschreibung!$E$23,"Bambini",IF(AND(D23>=Ausschreibung!$D$24,D23<=Ausschreibung!$F$24),"Jugend",IF(AND(D23>=Ausschreibung!$D$25,D23<=Ausschreibung!$F$25),"Junioren","Ü-15")))) | K23: =F23 -> 0 | L23: =VLOOKUP(F23,$O$20:$T$50,6,FALSE) -> #N/A | O23: =F23 -> 0 | T23: =VLOOKUP(O23,'Meldeliste Garden'!$A$21:$G$51,6,FALSE) -> #N/A
E24: =IF(D24="","",IF(D24>=Ausschreibung!$E$23,"Bambini",IF(AND(D24>=Ausschreibung!$D$24,D24<=Ausschreibung!$F$24),"Jugend",IF(AND(D24>=Ausschreibung!$D$25,D24<=Ausschreibung!$F$25),"Junioren","Ü-15")))) | K24: =F24 -> 0 | L24: =VLOOKUP(F24,$O$20:$T$50,6,FALSE) -> #N/A | O24: =F24 -> 0 | T24: =VLOOKUP(O24,'Meldeliste Garden'!$A$21:$G$51,6,FALSE) -> #N/A
E25: =IF(D25="","",IF(D25>=Ausschreibung!$E$23,"Bambini",IF(AND(D25>=Ausschreibung!$D$24,D25<=Ausschreibung!$F$24),"Jugend",IF(AND(D25>=Ausschreibung!$D$25,D25<=Ausschreibung!$F$25),"Junioren","Ü-15")))) | K25: =F25 -> 0 | L25: =VLOOKUP(F25,$O$20:$T$50,6,FALSE) -> #N/A | O25: =F25 -> 0 | T25: =VLOOKUP(O25,'Meldeliste Garden'!$A$21:$G$51,6,FALSE) -> #N/A
E26: =IF(D26="","",IF(D26>=Ausschreibung!$E$23,"Bambini",IF(AND(D26>=Ausschreibung!$D$24,D26<=Ausschreibung!$F$24),"Jugend",IF(AND(D26>=Ausschreibung!$D$25,D26<=Ausschreibung!$F$25),"Junioren","Ü-15")))) | K26: =F26 -> 0 | L26: =VLOOKUP(F26,$O$20:$T$50,6,FALSE) -> #N/A | O26: =F26 -> 0 | T26: =VLOOKUP(O26,'Meldeliste Garden'!$A$21:$G$51,6,FALSE) -> #N/A
E27: =IF(D27="","",IF(D27>=Ausschreibung!$E$23,"Bambini",IF(AND(D27>=Ausschreibung!$D$24,D27<=Ausschreibung!$F$24),"Jugend",IF(AND(D27>=Ausschreibung!$D$25,D27<=Ausschreibung!$F$25),"Junioren","Ü-15")))) | K27: =F27 -> 0 | L27: =VLOOKUP(F27,$O$20:$T$50,6,FALSE) -> #N/A | O27: =F27 -> 0 | T27: =VLOOKUP(O27,'Meldeliste Garden'!$A$21:$G$51,6,FALSE) -> #N/A
E28: =IF(D28="","",IF(D28>=Ausschreibung!$E$23,"Bambini",IF(AND(D28>=Ausschreibung!$D$24,D28<=Ausschreibung!$F$24),"Jugend",IF(AND(D28>=Ausschreibung!$D$25,D28<=Ausschreibung!$F$25),"Junioren","Ü-15")))) | K28: =F28 -> 0 | L28: =VLOOKUP(F28,$O$20:$T$50,6,FALSE) -> #N/A | O28: =F28 -> 0 | T28: =VLOOKUP(O28,'Meldeliste Garden'!$A$21:$G$51,6,FALSE) -> #N/A
E29: =IF(D29="","",IF(D29>=Ausschreibung!$E$23,"Bambini",IF(AND(D29>=Ausschreibung!$D$24,D29<=Ausschreibung!$F$24),"Jugend",IF(AND(D29>=Ausschreibung!$D$25,D29<=Ausschreibung!$F$25),"Junioren","Ü-15")))) | K29: =F29 -> 0 | L29: =VLOOKUP(F29,$O$20:$T$50,6,FALSE) -> #N/A | O29: =F29 -> 0 | T29: =VLOOKUP(O29,'Meldeliste Garden'!$A$21:$G$51,6,FALSE) -> #N/A
E30: =IF(D30="","",IF(D30>=Ausschreibung!$E$23,"Bambini",IF(AND(D30>=Ausschreibung!$D$24,D30<=Ausschreibung!$F$24),"Jugend",IF(AND(D30>=Ausschreibung!$D$25,D30<=Ausschreibung!$F$25),"Junioren","Ü-15")))) | K30: =F30 -> 0 | L30: =VLOOKUP(F30,$O$20:$T$50,6,FALSE) -> #N/A | O30: =F30 -> 0 | T30: =VLOOKUP(O30,'Meldeliste Garden'!$A$21:$G$51,6,FALSE) -> #N/A
E31: =IF(D31="","",IF(D31>=Ausschreibung!$E$23,"Bambini",IF(AND(D31>=Ausschreibung!$D$24,D31<=Ausschreibung!$F$24),"Jugend",IF(AND(D31>=Ausschreibung!$D$25,D31<=Ausschreibung!$F$25),"Junioren","Ü-15")))) | K31: =F31 -> 0 | L31: =VLOOKUP(F31,$O$20:$T$50,6,FALSE) -> #N/A | O31: =F31 -> 0 | T31: =VLOOKUP(O31,'Meldeliste Garden'!$A$21:$G$51,6,FALSE) -> #N/A
... E50: =IF(D50="","",IF(D50>=Ausschreibung!$E$23,"Bambini",IF(AND(D50>=Ausschreibung!$D$24,D50<=Ausschreibung!$F$24),"Jugend",IF(AND(D50>=Ausschreibung!$D$25,D50<=Ausschreibung!$F$25),"Junioren","Ü-15")))) | K50: =F50 -> 0 | L50: =VLOOKUP(F50,$O$20:$T$50,6,FALSE) -> #N/A | O50: =F50 -> 0 | T50: =VLOOKUP(O50,'Meldeliste Garden'!$A$21:$G$51,6,FALSE) -> #N/A
E51: =IF(D51="","",IF(D51>=Ausschreibung!$E$23,"Bambini",IF(AND(D51>=Ausschreibung!$D$24,D51<=Ausschreibung!$F$24),"Jugend",IF(AND(D51>=Ausschreibung!$D$25,D51<=Ausschreibung!$F$25),"Junioren","Ü-15")))) | K51: =F51 -> 0
E52: =IF(D52="","",IF(D52>=Ausschreibung!$E$23,"Bambini",IF(AND(D52>=Ausschreibung!$D$24,D52<=Ausschreibung!$F$24),"Jugend",IF(AND(D52>=Ausschreibung!$D$25,D52<=Ausschreibung!$F$25),"Junioren","Ü-15")))) | K52: =F52 -> 0
E53: =IF(D53="","",IF(D53>=Ausschreibung!$E$23,"Bambini",IF(AND(D53>=Ausschreibung!$D$24,D53<=Ausschreibung!$F$24),"Jugend",IF(AND(D53>=Ausschreibung!$D$25,D53<=Ausschreibung!$F$25),"Junioren","Ü-15")))) | K53: =F53 -> 0
E54: =IF(D54="","",IF(D54>=Ausschreibung!$E$23,"Bambini",IF(AND(D54>=Ausschreibung!$D$24,D54<=Ausschreibung!$F$24),"Jugend",IF(AND(D54>=Ausschreibung!$D$25,D54<=Ausschreibung!$F$25),"Junioren","Ü-15")))) | K54: =F54 -> 0
E55: =IF(D55="","",IF(D55>=Ausschreibung!$E$23,"Bambini",IF(AND(D55>=Ausschreibung!$D$24,D55<=Ausschreibung!$F$24),"Jugend",IF(AND(D55>=Ausschreibung!$D$25,D55<=Ausschreibung!$F$25),"Junioren","Ü-15")))) | K55: =F55 -> 0
E56: =IF(D56="","",IF(D56>=Ausschreibung!$E$23,"Bambini",IF(AND(D56>=Ausschreibung!$D$24,D56<=Ausschreibung!$F$24),"Jugend",IF(AND(D56>=Ausschreibung!$D$25,D56<=Ausschreibung!$F$25),"Junioren","Ü-15")))) | K56: =F56 -> 0
E57: =IF(D57="","",IF(D57>=Ausschreibung!$E$23,"Bambini",IF(AND(D57>=Ausschreibung!$D$24,D57<=Ausschreibung!$F$24),"Jugend",IF(AND(D57>=Ausschreibung!$D$25,D57<=Ausschreibung!$F$25),"Junioren","Ü-15")))) | K57: =F57 -> 0
E58: =IF(D58="","",IF(D58>=Ausschreibung!$E$23,"Bambini",IF(AND(D58>=Ausschreibung!$D$24,D58<=Ausschreibung!$F$24),"Jugend",IF(AND(D58>=Ausschreibung!$D$25,D58<=Ausschreibung!$F$25),"Junioren","Ü-15")))) | K58: =F58 -> 0
E59: =IF(D59="","",IF(D59>=Ausschreibung!$E$23,"Bambini",IF(AND(D59>=Ausschreibung!$D$24,D59<=Ausschreibung!$F$24),"Jugend",IF(AND(D59>=Ausschreibung!$D$25,D59<=Ausschreibung!$F$25),"Junioren","Ü-15")))) | K59: =F59 -> 0
E60: =IF(D60="","",IF(D60>=Ausschreibung!$E$23,"Bambini",IF(AND(D60>=Ausschreibung!$D$24,D60<=Ausschreibung!$F$24),"Jugend",IF(AND(D60>=Ausschreibung!$D$25,D60<=Ausschreibung!$F$25),"Junioren","Ü-15")))) | K60: =F60 -> 0
E61: =IF(D61="","",IF(D61>=Ausschreibung!$E$23,"Bambini",IF(AND(D61>=Ausschreibung!$D$24,D61<=Ausschreibung!$F$24),"Jugend",IF(AND(D61>=Ausschreibung!$D$25,D61<=Ausschreibung!$F$25),"Junioren","Ü-15")))) | K61: =F61 -> 0
E62: =IF(D62="","",IF(D62>=Ausschreibung!$E$23,"Bambini",IF(AND(D62>=Ausschreibung!$D$24,D62<=Ausschreibung!$F$24),"Jugend",IF(AND(D62>=Ausschreibung!$D$25,D62<=Ausschreibung!$F$25),"Junioren","Ü-15")))) | K62: =F62 -> 0
... E79: =IF(D79="","",IF(D79>=Ausschreibung!$E$23,"Bambini",IF(AND(D79>=Ausschreibung!$D$24,D79<=Ausschreibung!$F$24),"Jugend",IF(AND(D79>=Ausschreibung!$D$25,D79<=Ausschreibung!$F$25),"Junioren","Ü-15")))) | K79: =F79 -> 0

Sheet Meldeliste Schautanz
A1: Angaben zum Verein/zur Gesellschaft
A3: Name: | B3: ='meldender Verein'!$B$3 -> 0
A4: Anschrift: | B4: ='meldender Verein'!$B$4 -> 0
A5: PLZ,Ort | B5: ='meldender Verein'!$B$5 -> 0
A7: Telefon: | B7: ='meldender Verein'!$B$7 -> 0
A8: Fax: | B8: ='meldender Verein'!$B$8 -> 0
A9: E-Mail: | B9: ='meldender Verein'!$B$9 -> 0
A11: Gema-Nr.: | B11: ='meldender Verein'!$B$11 -> 0
A12: BDK-Nr.: | B12: ='meldender Verein'!$B$12 -> 0
A13: VKAG-Nr.: | B13: ='meldender Verein'!$B$13 -> 0
A16: Zum Qualifikationsturnier am: | D16: =Ausschreibung!$B$19 -> Samstag, 21. November 2026
A17: Melden wir verbindlich nachfolgende Schautanzgruppe (m/w/d) an:
A18: Startgeld: | B18: =COUNTA(B20:B50)*17 -> 0
A19: Sternchen | B19: Name der Gruppe | F19: Altersklasse | G19: Thema | N19: Letzter Start bei *
M20: =IF(B20="","",B20)
M21: =IF(B21="","",B21)
M22: =IF(B22="","",B22)
M23: =IF(B23="","",B23)
M24: =IF(B24="","",B24)
M25: =IF(B25="","",B25)
M26: =IF(B26="","",B26)
M27: =IF(B27="","",B27)
M28: =IF(B28="","",B28)
M29: =IF(B29="","",B29)
M30: =IF(B30="","",B30)
M31: =IF(B31="","",B31)
... M50: =IF(B50="","",B50)

Sheet Auflistung Tänzer Schautanz
A1: Angaben zum Verein/zur Gesellschaft
A3: Name: | B3: ='meldender Verein'!$B$3 -> 0
A4: Anschrift: | B4: ='meldender Verein'!$B$4 -> 0
A5: PLZ,Ort | B5: ='meldender Verein'!$B$5 -> 0
A7: Telefon: | B7: ='meldender Verein'!$B$7 -> 0
A8: Fax: | B8: ='meldender Verein'!$B$8 -> 0
A9: E-Mail: | B9: ='meldender Verein'!$B$9 -> 0
A11: Gema-Nr.: | B11: ='meldender Verein'!$B$11 -> 0
A12: BDK-Nr.: | B12: ='meldender Verein'!$B$12 -> 0
A13: VKAG-Nr.: | B13: ='meldender Verein'!$B$13 -> 0
A16: Zum Qualifikationsturnier am: | C16: =Ausschreibung!B19 -> Samstag, 21. November 2026
A17: Melden wir verbindlich nachfolgende Tänzer (m/w/d) an:
A19: BDK-Ausweis | B19: Name | C19: Vorname | D19: Jahrgang | E19: Altersklasse | F19: Name der Gruppe
E20: =IF(D20="","",IF(D20>=Ausschreibung!$E$23,"Bambini",IF(AND(D20>=Ausschreibung!$D$24,D20<=Ausschreibung!$F$24),"Jugend",IF(AND(D20>=Ausschreibung!$D$25,D20<=Ausschreibung!$F$25),"Junioren","Ü-15")))) | K20: =VLOOKUP(F20,'Meldeliste Schautanz'!$A$20:$F$50,6,FALSE) -> #N/A
E21: =IF(D21="","",IF(D21>=Ausschreibung!$E$23,"Bambini",IF(AND(D21>=Ausschreibung!$D$24,D21<=Ausschreibung!$F$24),"Jugend",IF(AND(D21>=Ausschreibung!$D$25,D21<=Ausschreibung!$F$25),"Junioren","Ü-15")))) | K21: =VLOOKUP(F21,'Meldeliste Schautanz'!$A$20:$F$50,6,FALSE) -> #N/A
E22: =IF(D22="","",IF(D22>=Ausschreibung!$E$23,"Bambini",IF(AND(D22>=Ausschreibung!$D$24,D22<=Ausschreibung!$F$24),"Jugend",IF(AND(D22>=Ausschreibung!$D$25,D22<=Ausschreibung!$F$25),"Junioren","Ü-15")))) | K22: =VLOOKUP(F22,'Meldeliste Schautanz'!$A$20:$F$50,6,FALSE) -> #N/A
E23: =IF(D23="","",IF(D23>=Ausschreibung!$E$23,"Bambini",IF(AND(D23>=Ausschreibung!$D$24,D23<=Ausschreibung!$F$24),"Jugend",IF(AND(D23>=Ausschreibung!$D$25,D23<=Ausschreibung!$F$25),"Junioren","Ü-15")))) | K23: =VLOOKUP(F23,'Meldeliste Schautanz'!$A$20:$F$50,6,FALSE) -> #N/A
E24: =IF(D24="","",IF(D24>=Ausschreibung!$E$23,"Bambini",IF(AND(D24>=Ausschreibung!$D$24,D24<=Ausschreibung!$F$24),"Jugend",IF(AND(D24>=Ausschreibung!$D$25,D24<=Ausschreibung!$F$25),"Junioren","Ü-15")))) | K24: =VLOOKUP(F24,'Meldeliste Schautanz'!$A$20:$F$50,6,FALSE) -> #N/A
E25: =IF(D25="","",IF(D25>=Ausschreibung!$E$23,"Bambini",IF(AND(D25>=Ausschreibung!$D$24,D25<=Ausschreibung!$F$24),"Jugend",IF(AND(D25>=Ausschreibung!$D$25,D25<=Ausschreibung!$F$25),"Junioren","Ü-15")))) | K25: =VLOOKUP(F25,'Meldeliste Schautanz'!$A$20:$F$50,6,FALSE) -> #N/A
E26: =IF(D26="","",IF(D26>=Ausschreibung!$E$23,"Bambini",IF(AND(D26>=Ausschreibung!$D$24,D26<=Ausschreibung!$F$24),"Jugend",IF(AND(D26>=Ausschreibung!$D$25,D26<=Ausschreibung!$F$25),"Junioren","Ü-15")))) | K26: =VLOOKUP(F26,'Meldeliste Schautanz'!$A$20:$F$50,6,FALSE) -> #N/A
E27: =IF(D27="","",IF(D27>=Ausschreibung!$E$23,"Bambini",IF(AND(D27>=Ausschreibung!$D$24,D27<=Ausschreibung!$F$24),"Jugend",IF(AND(D27>=Ausschreibung!$D$25,D27<=Ausschreibung!$F$25),"Junioren","Ü-15")))) | K27: =VLOOKUP(F27,'Meldeliste Schautanz'!$A$20:$F$50,6,FALSE) -> #N/A
E28: =IF(D28="","",IF(D28>=Ausschreibung!$E$23,"Bambini",IF(AND(D28>=Ausschreibung!$D$24,D28<=Ausschreibung!$F$24),"Jugend",IF(AND(D28>=Ausschreibung!$D$25,D28<=Ausschreibung!$F$25),"Junioren","Ü-15")))) | K28: =VLOOKUP(F28,'Meldeliste Schautanz'!$A$20:$F$50,6,FALSE) -> #N/A
E29: =IF(D29="","",IF(D29>=Ausschreibung!$E$23,"Bambini",IF(AND(D29>=Ausschreibung!$D$24,D29<=Ausschreibung!$F$24),"Jugend",IF(AND(D29>=Ausschreibung!$D$25,D29<=Ausschreibung!$F$25),"Junioren","Ü-15")))) | K29: =VLOOKUP(F29,'Meldeliste Schautanz'!$A$20:$F$50,6,FALSE) -> #N/A
E30: =IF(D30="","",IF(D30>=Ausschreibung!$E$23,"Bambini",IF(AND(D30>=Ausschreibung!$D$24,D30<=Ausschreibung!$F$24),"Jugend",IF(AND(D30>=Ausschreibung!$D$25,D30<=Ausschreibung!$F$25),"Junioren","Ü-15")))) | K30: =VLOOKUP(F30,'Meldeliste Schautanz'!$A$20:$F$50,6,FALSE) -> #N/A
E31: =IF(D31="","",IF(D31>=Ausschreibung!$E$23,"Bambini",IF(AND(D31>=Ausschreibung!$D$24,D31<=Ausschreibung!$F$24),"Jugend",IF(AND(D31>=Ausschreibung!$D$25,D31<=Ausschreibung!$F$25),"Junioren","Ü-15")))) | K31: =VLOOKUP(F31,'Meldeliste Schautanz'!$A$20:$F$50,6,FALSE) -> #N/A
... E79: =IF(D79="","",IF(D79>=Ausschreibung!$E$23,"Bambini",IF(AND(D79>=Ausschreibung!$D$24,D79<=Ausschreibung!$F$24),"Jugend",IF(AND(D79>=Ausschreibung!$D$25,D79<=Ausschreibung!$F$25),"Junioren","Ü-15")))) | K79: =VLOOKUP(F79,'Meldeliste Schautanz'!$A$20:$F$50,6,FALSE) -> #N/A

Sheet Gesamtübersicht
A1: Angaben zum Verein/zur Gesellschaft | G1: Ansprechpartner:
G2: ='meldender Verein'!A15 -> Name: | H2: ='meldender Verein'!B15 -> 0
A3: Name: | B3: ='meldender Verein'!$B$3 -> 0 | G3: ='meldender Verein'!A16 -> Adresse: | H3: ='meldender Verein'!B16 -> 0
A4: Anschrift: | B4: ='meldender Verein'!$B$4 -> 0 | G4: ='meldender Verein'!A17 -> PLZ, Ort: | H4: ='meldender Verein'!B17 -> 0
A5: PLZ,Ort | B5: ='meldender Verein'!$B$5 -> 0 | G5: ='meldender Verein'!A18 -> Kontakt: | H5: ='meldender Verein'!B18 -> 0
A7: Telefon: | B7: ='meldender Verein'!$B$7 -> 0
A8: Fax: | B8: ='meldender Verein'!$B$8 -> 0
A9: E-Mail: | B9: ='meldender Verein'!$B$9 -> 0
A11: Gema-Nr.: | B11: ='meldender Verein'!$B$11 -> 0
A12: BDK-Nr.: | B12: ='meldender Verein'!$B$12 -> 0
A13: VKAG-Nr.: | B13: ='meldender Verein'!$B$13 -> 0
C14: Aktive
A15: Solisten | B15: ='Meldeliste Solisten'!$C$18 -> 0 | C15: =COUNTA('Meldeliste Solisten'!C20:C50) -> 0
A16: Tanzpaar | B16: ='Meldeliste Tanzpaare'!C18 -> 0 | C16: =COUNTA(Tabelle1[[#All],[Spalte2]]) -> 0
A17: Garden | B17: ='Meldeliste Garden'!C18 -> 0 | C17: =COUNTA('Auflistung Tänzer Garden'!B20:B79) -> 0
A18: Schautanz | B18: ='Meldeliste Schautanz'!$B$18 -> 0 | C18: =COUNTA('Auflistung Tänzer Schautanz'!B20:B79) -> 0
A19: Summe | B19: =SUM(B15:B18) -> 0 | C19: =SUM(C15:C18) -> 0 | D19: =IF(C19=0,"","Aktive")
A21: Anzahl Betreuer | C21: =C15*1+C16/2*1+COUNTA('Meldeliste Garden'!B21:F51)*1+COUNTA('Meldeliste Schautanz'!B20:E50)*1 -> 0
A22: (max. 1 Betreuer pro Start)
A28: Das Startgeld in Höhe von | D28: =$B$19 -> 0
A29: wird bis zum | D29: =Ausschreibung!B112-1 -> 46330
A30: auf das Konto | D30: =Ausschreibung!$D$125 -> DE41 3106 0517 7813 7500 10
A31: überwiesen
A33: Erklärung | B33: Durch die Absendung dieser Anmeldung werden die Teilnahmebedingungen vollumfänglich anerkannt. Wir versichern, das die aktiven Teilnehmer über den Regionalverband der GEMA gemeldet sind und die Gardevertragsgebühren entrichtet wurden
